BEGIN:VCALENDAR
VERSION:2.0
PRODID:-//Tilden Park Golf Course - ECPv6.15.18//NONSGML v1.0//EN
CALSCALE:GREGORIAN
METHOD:PUBLISH
X-WR-CALNAME:Tilden Park Golf Course
X-ORIGINAL-URL:https://tildenparkgc.com
X-WR-CALDESC:Events for Tilden Park Golf Course
REFRESH-INTERVAL;VALUE=DURATION:PT1H
X-Robots-Tag:noindex
X-PUBLISHED-TTL:PT1H
BEGIN:VTIMEZONE
TZID:UTC
BEGIN:STANDARD
TZOFFSETFROM:+0000
TZOFFSETTO:+0000
TZNAME:UTC
DTSTART:20250101T000000
END:STANDARD
END:VTIMEZONE
BEGIN:VEVENT
DTSTART;TZID=UTC:20260208T080000
DTEND;TZID=UTC:20260208T140000
DTSTAMP:20260421T111728
CREATED:20260112T211417Z
LAST-MODIFIED:20260112T211417Z
UID:10000006-1770537600-1770559200@tildenparkgc.com
SUMMARY:The Big Game Shotgun
DESCRIPTION:Get ready for Big Game Sunday at Tilden Park Golf Course! Join our 4-player scramble shotgun and play before the big matchup. $95 per player covers green fee\, cart fee\, and prizes. Call (408) 250-6930 or email eguerrero@kempersports.com with any questions or concerns. 🏈 \nRSVP here: https://dev3.lightspeedweb.site/tildenparkgc/online-store/#!/The-Big-Game-Shotgun/p/807600539
URL:https://tildenparkgc.com/event/the-big-game-shotgun/
ATTACH;FMTTYPE=image/jpeg:https://tildenparkgc.com/wp-content/uploads/sites/12/2026/01/Big-Game-Shotgun-2026.jpg
END:VEVENT
BEGIN:VEVENT
DTSTART;TZID=UTC:20260214T170000
DTEND;TZID=UTC:20260214T200000
DTSTAMP:20260421T111728
CREATED:20260112T211646Z
LAST-MODIFIED:20260112T211831Z
UID:10000007-1771088400-1771099200@tildenparkgc.com
SUMMARY:Valentine's Day Dinner
DESCRIPTION:Celebrate Valentine’s Day with a memorable evening at The Overlook on Friday\, February 14th from 5:00–8:00 PM. For $60 per person\, enjoy festive wine specials and live music by Fake Melody while indulging in a thoughtfully curated dinner featuring seasonal favorites. Menu highlights include a prime rib carving station\, baked potato bar\, and decadent chocolate lava cakes. Whether you’re planning a romantic date night or simply looking to enjoy great food and live entertainment\, this Valentine’s Day dinner is the perfect way to celebrate. ❤️🍽️🎶🍷 \nRSVP on Tilden’s online store: https://dev3.lightspeedweb.site/tildenparkgc/online-store/#!/Valentines-Day-Dinner/p/807586952
URL:https://tildenparkgc.com/event/valentines-day-dinner/
ATTACH;FMTTYPE=image/jpeg:https://tildenparkgc.com/wp-content/uploads/sites/12/2026/01/Valentines-Day-Dinner-3.jpg
END:VEVENT
BEGIN:VEVENT
DTSTART;TZID=UTC:20260220T170000
DTEND;TZID=UTC:20260220T190000
DTSTAMP:20260421T111728
CREATED:20260211T235213Z
LAST-MODIFIED:20260211T235302Z
UID:10000010-1771606800-1771614000@tildenparkgc.com
SUMMARY:Family Night: PJ's & Tacos
DESCRIPTION:Looking for an easy\, fun Friday plan with the family? Join us at The Overlook on Friday\, February 20th from 5–7 PM for our cozy and crowd-favorite PJs & Tacos Family Night. Come dressed in your favorite pajamas and settle in for an evening of tacos\, sweet treats\, and family fun. Kids in PJs will receive a candy bag\, enjoy festive Valentine’s craft activities\, and sip on warm hot chocolate from our cocoa station. ☕🌮💖 \nIt’s the perfect mix of comfort\, creativity\, and a relaxed night out with the whole crew. \n$20 adults | $12 kids | Kids 5 & under eat free \nRSVPs encouraged\, walk-ins always welcome. RSVP here: https://dev3.lightspeedweb.site/tildenparkgc/online-store/#!/Family-Night-PJs-&-Tacos/p/811010988
URL:https://tildenparkgc.com/event/february-family-night-at-the-overlook/
LOCATION:The Overlook at Tilden\, 10 Golf Course Dr\, Berkeley\, CA\, CA\, 94708\, United States
ATTACH;FMTTYPE=image/jpeg:https://tildenparkgc.com/wp-content/uploads/sites/12/2026/02/Overlook-Family-Night-16.jpg
END:VEVENT
BEGIN:VEVENT
DTSTART;TZID=UTC:20260227T170000
DTEND;TZID=UTC:20260227T190000
DTSTAMP:20260421T111728
CREATED:20260202T000900Z
LAST-MODIFIED:20260202T002355Z
UID:10000008-1772211600-1772218800@tildenparkgc.com
SUMMARY:Alameda Brewing Co. Beer Sampling
DESCRIPTION:Alameda Brewing Sampling 🍻Friday\, February 27 | 5:00–7:00 PM \nSip on complimentary samples of five Alameda Brewing beers\, showcasing everything from light\, refreshing lagers to bold IPAs and smooth dark pours. Pair your favorites with chef-inspired food specials available for purchase\, including Korean BBQ tacos\, Nashville hot chicken tenders\, and crispy street corn fritters. \nThe evening is rounded out with live acoustic music by Jane Blonde & The Goldfingers\, delivering easygoing\, crowd-favorite covers that keep the vibe relaxed and social. \nFree to attend • No RSVP needed • Come for the beer\, stay for the vibe 🍻🎶
URL:https://tildenparkgc.com/event/alameda-brewing-co-beer-tasting/
LOCATION:The Overlook at Tilden\, 10 Golf Course Dr\, Berkeley\, CA\, CA\, 94708\, United States
ATTACH;FMTTYPE=image/jpeg:https://tildenparkgc.com/wp-content/uploads/sites/12/2026/02/Alameda-Brewing-Tasting-9.jpg
END:VEVENT
END:VCALENDAR