BEGIN:VCALENDAR
VERSION:2.0
PRODID:-//Tilden Park Golf Course - ECPv6.15.18//NONSGML v1.0//EN
CALSCALE:GREGORIAN
METHOD:PUBLISH
X-WR-CALNAME:Tilden Park Golf Course
X-ORIGINAL-URL:https://tildenparkgc.com
X-WR-CALDESC:Events for Tilden Park Golf Course
REFRESH-INTERVAL;VALUE=DURATION:PT1H
X-Robots-Tag:noindex
X-PUBLISHED-TTL:PT1H
BEGIN:VTIMEZONE
TZID:UTC
BEGIN:STANDARD
TZOFFSETFROM:+0000
TZOFFSETTO:+0000
TZNAME:UTC
DTSTART:20250101T000000
END:STANDARD
END:VTIMEZONE
BEGIN:VEVENT
DTSTART;TZID=UTC:20260501T113000
DTEND;TZID=UTC:20260501T193000
DTSTAMP:20260423T102931
CREATED:20260419T234449Z
LAST-MODIFIED:20260419T234705Z
UID:10000018-1777635000-1777663800@tildenparkgc.com
SUMMARY:18th Annual BAF Golf Tournament
DESCRIPTION:Play Tilden for a Great Cause! ⛳ \nJoin the 18th Annual Berkeley Athletic Fund Golf Classic on May 1st at Tilden Park Golf Course. Enjoy a beautiful day of golf in the Berkeley Hills with on-course contests\, great company\, and a post-tournament reception\, dinner\, and awards. \nAll proceeds support Berkeley High School’s 50+ athletic teams and 1\,400+ student-athletes\, helping fund coaching stipends\, equipment\, competition travel\, & student-athlete scholarships. \nRegister as an individual or bring a foursome:  https://givebutter.com/c/18th-annual-baf–golf-classic-dinner
URL:https://tildenparkgc.com/event/18th-annual-baf-golf-tournament/
ATTACH;FMTTYPE=image/png:https://tildenparkgc.com/wp-content/uploads/sites/12/2026/04/BAF-Tourney-flier-for-Tilden.png
END:VEVENT
END:VCALENDAR