BEGIN:VCALENDAR
VERSION:2.0
PRODID:-//Tilden Park Golf Course - ECPv6.15.18//NONSGML v1.0//EN
CALSCALE:GREGORIAN
METHOD:PUBLISH
X-ORIGINAL-URL:https://tildenparkgc.com
X-WR-CALDESC:Events for Tilden Park Golf Course
REFRESH-INTERVAL;VALUE=DURATION:PT1H
X-Robots-Tag:noindex
X-PUBLISHED-TTL:PT1H
BEGIN:VTIMEZONE
TZID:UTC
BEGIN:STANDARD
TZOFFSETFROM:+0000
TZOFFSETTO:+0000
TZNAME:UTC
DTSTART:20240101T000000
END:STANDARD
END:VTIMEZONE
BEGIN:VEVENT
DTSTART;TZID=UTC:20251219T170000
DTEND;TZID=UTC:20251219T190000
DTSTAMP:20260425T161126
CREATED:20251124T165222Z
LAST-MODIFIED:20251124T165604Z
UID:10000004-1766163600-1766170800@tildenparkgc.com
SUMMARY:Holiday Dinner at The Overlook
DESCRIPTION:Gather with friends\, family\, and your community at our Holiday Dinner on Friday\, December 19th\, 5:00–7:00 PM for a peaceful\, festive buffet with live piano music by Louis Pettinelli Entertainment. \nDelight in seasonal dishes like sage & brown butter twice-baked sweet potatoes\, cranberry stuffed field roast\, broiled New Zealand leg of lamb with rosemary pan jus & garlic mint sauce\, and rustic apple tarts with salted caramel ice cream. 🌟 \n🍷 Enjoy a complimentary glass of wine or non-alcoholic beverage while connecting with loved ones in a cozy\, welcoming atmosphere. \n💵 $50 per person. RSVP on Tilden’s online store today\, this special evening will fill up fast! https://dev3.lightspeedweb.site/tildenparkgc/store/Holiday-Dinner-at-The-Overlook-p795400871
URL:https://tildenparkgc.com/event/holiday-dinner-at-the-overlook/
ATTACH;FMTTYPE=image/jpeg:https://tildenparkgc.com/wp-content/uploads/sites/12/2025/11/Holiday-Dinner-3.jpg
END:VEVENT
END:VCALENDAR